BEGIN:VCALENDAR
VERSION:2.0
PRODID:-//hacksw/handcal//NONSGML v1.0//EN
BEGIN:VEVENT
DTSTAMP:20260527T180000Z
DTSTART:20260527T180000Z
DTEND:20260527T180000Z
SUMMARY:KPV Bergisches Land: Vorstandssitzung (rein digital)
END:VEVENT
BEGIN:VEVENT
DTSTAMP:20260602T160000Z
DTSTART:20260602T160000Z
DTEND:20260602T160000Z
SUMMARY:CDU-Bezirksvorstandssitzung
END:VEVENT
BEGIN:VEVENT
DTSTAMP:20260625T163000Z
DTSTART:20260625T163000Z
DTEND:20260625T183000Z
SUMMARY:Frauen Union: digitale Bezirksvorstandssitzung
END:VEVENT
BEGIN:VEVENT
DTSTAMP:20260915T160000Z
DTSTART:20260915T160000Z
DTEND:20260915T160000Z
SUMMARY:CDU-Bezirksvorstandssitzung
END:VEVENT
BEGIN:VEVENT
DTSTAMP:20261118T170000Z
DTSTART:20261118T170000Z
DTEND:20261118T170000Z
SUMMARY:CDU-Bezirksvorstandssitzung
END:VEVENT
BEGIN:VEVENT
DTSTAMP:20261203T173000Z
DTSTART:20261203T173000Z
DTEND:20261203T173000Z
SUMMARY:Frauen Union: Bezirksvorstandssitzung
END:VEVENT
END:VCALENDAR
